BEGIN:VCALENDAR
VERSION:2.0
PRODID:-//GAIA Global - ECPv6.5.2//NONSGML v1.0//EN
CALSCALE:GREGORIAN
METHOD:PUBLISH
X-ORIGINAL-URL:https://gaiaglobal.com.tr
X-WR-CALDESC:GAIA Global için etkinlikler
REFRESH-INTERVAL;VALUE=DURATION:PT1H
X-Robots-Tag:noindex
X-PUBLISHED-TTL:PT1H
BEGIN:VTIMEZONE
TZID:Europe/Moscow
BEGIN:STANDARD
TZOFFSETFROM:+0300
TZOFFSETTO:+0300
TZNAME:MSK
DTSTART:20240101T000000
END:STANDARD
END:VTIMEZONE
BEGIN:VEVENT
DTSTART;TZID=Europe/Moscow:20240321T080000
DTEND;TZID=Europe/Moscow:20240321T170000
DTSTAMP:20260421T105754
CREATED:20240320T224928Z
LAST-MODIFIED:20240320T224928Z
UID:1411-1711008000-1711040400@gaiaglobal.com.tr
SUMMARY:Yapay Zeka Temel Kavramları ve Kullanım Alanları Eğitimi
DESCRIPTION:GAIA Fintech Danışmanlık A.Ş. olarak sunulan Yapay Zeka Temel Kavramları ve Kullanım Alanları Eğitimi\, katılımcılara yapay zeka dünyasının kapılarını aralamak ve bu teknolojinin çeşitli kullanım alanlarına dair temel bilgiler edinmek için mükemmel bir fırsat sunar. Eğitim içeriği şu başlıkları kapsar: \n\n Yapay Zeka Nedir?\n\nYapay zeka kavramının temel tanımı ve tarihçesi. \nYapay zekanın\, insan zekasını taklit etme çabaları ve hedefleri. \n\n Temel Yapay Zeka Kavramları:\n\nMakine Öğrenimi (Machine Learning) nedir ve nasıl çalışır? \nDerin Öğrenme (Deep Learning) temel prensipleri. \nDoğal Dil İşleme (NLP) ve Konuşma Tanıma. \n\n Yapay Zeka Uygulama Alanları:\n\nSağlık sektöründe yapay zeka uygulamaları. \nFinansal hizmetlerde yapay zeka kullanımı. \nÜretim ve lojistikte yapay zeka uygulamaları. \nPerakende sektöründe kişiselleştirilmiş öneri sistemleri. \n\n İş Süreçlerinde Yapay Zeka:\n\nİş süreçlerinde otomasyon ve yapay zeka entegrasyonu. \nVeri analitiği ve raporlama için yapay zeka. \nMüşteri ilişkileri yönetimi (CRM) ve yapay zeka. \n\n Yapay Zeka ve Etik:\n\nYapay zeka kullanımında etik prensipleri. \nBias ve hataların önlenmesi için etik standartlar. \n\n Pratik Uygulamalar ve Örnekler:\n\nGerçek dünya uygulama örnekleri ile yapay zeka kullanımının detaylı açıklamaları. \nKatılımcıların kendi projelerine yapay zeka entegrasyonu için öneriler. \n\n Gelecekte Yapay Zeka Trendleri:\n\nYapay zeka alanındaki en güncel trendler ve gelecekteki beklentiler. \nYapay zeka ile ilgili kariyer fırsatları ve gelişen iş alanları. \nBu eğitim\, katılımcılara temel yapay zeka kavramlarını anlama\, bu teknolojinin nasıl çalıştığını kavrama ve çeşitli sektörlerdeki pratik uygulamalarını değerlendirme fırsatı sunar. Yapay Zeka Temel Kavramları ve Kullanım Alanları Eğitimi ile katılımcılar\, bu dinamik ve hızla gelişen alanda kendilerini güncel tutarak rekabet avantajı elde etme yolunda önemli bir adım atmış olurlar.
URL:https://gaiaglobal.com.tr/takvim/yapay-zeka-temel-kavramlari-ve-kullanim-alanlari-egitimi/
CATEGORIES:Yapay Zeka Temel Kavramları ve Kullanım Alanları Eğitimi
END:VEVENT
END:VCALENDAR