BEGIN:VCALENDAR
VERSION:2.0
PRODID:-//GAIA Global - ECPv6.5.2//NONSGML v1.0//EN
CALSCALE:GREGORIAN
METHOD:PUBLISH
X-ORIGINAL-URL:https://gaiaglobal.com.tr
X-WR-CALDESC:GAIA Global için etkinlikler
REFRESH-INTERVAL;VALUE=DURATION:PT1H
X-Robots-Tag:noindex
X-PUBLISHED-TTL:PT1H
BEGIN:VTIMEZONE
TZID:Europe/Moscow
BEGIN:STANDARD
TZOFFSETFROM:+0300
TZOFFSETTO:+0300
TZNAME:MSK
DTSTART:20240101T000000
END:STANDARD
END:VTIMEZONE
BEGIN:VEVENT
DTSTART;TZID=Europe/Moscow:20240401T080000
DTEND;TZID=Europe/Moscow:20240401T170000
DTSTAMP:20260421T091120
CREATED:20240320T205617Z
LAST-MODIFIED:20240320T210702Z
UID:1343-1711958400-1711990800@gaiaglobal.com.tr
SUMMARY:Finansal Okuryazarlık Eğitimi
DESCRIPTION:
URL:https://gaiaglobal.com.tr/takvim/finansal-okuryazarlik-egitimi/
CATEGORIES:Finansal Okuryazarlık
ATTACH;FMTTYPE=image/png:https://gaiaglobal.com.tr/wp-content/uploads/2024/03/finansalokuryazarlik.png
END:VEVENT
END:VCALENDAR