BEGIN:VCALENDAR
VERSION:2.0
PRODID:-//GAIA Global - ECPv6.5.2//NONSGML v1.0//EN
CALSCALE:GREGORIAN
METHOD:PUBLISH
X-ORIGINAL-URL:https://gaiaglobal.com.tr
X-WR-CALDESC:GAIA Global için etkinlikler
REFRESH-INTERVAL;VALUE=DURATION:PT1H
X-Robots-Tag:noindex
X-PUBLISHED-TTL:PT1H
BEGIN:VTIMEZONE
TZID:Europe/Moscow
BEGIN:STANDARD
TZOFFSETFROM:+0300
TZOFFSETTO:+0300
TZNAME:MSK
DTSTART:20240101T000000
END:STANDARD
END:VTIMEZONE
BEGIN:VEVENT
DTSTART;TZID=Europe/Moscow:20240401T080000
DTEND;TZID=Europe/Moscow:20240401T170000
DTSTAMP:20260421T083829
CREATED:20240320T205617Z
LAST-MODIFIED:20240320T210702Z
UID:1343-1711958400-1711990800@gaiaglobal.com.tr
SUMMARY:Finansal Okuryazarlık Eğitimi
DESCRIPTION:
URL:https://gaiaglobal.com.tr/takvim/finansal-okuryazarlik-egitimi/
CATEGORIES:Finansal Okuryazarlık
ATTACH;FMTTYPE=image/png:https://gaiaglobal.com.tr/wp-content/uploads/2024/03/finansalokuryazarlik.png
END:VEVENT
BEGIN:VEVENT
DTSTART;TZID=Europe/Moscow:20240402T080000
DTEND;TZID=Europe/Moscow:20240402T170000
DTSTAMP:20260421T083829
CREATED:20240320T210549Z
LAST-MODIFIED:20240320T210637Z
UID:1349-1712044800-1712077200@gaiaglobal.com.tr
SUMMARY:Makro Verilerin Yorumlanması
DESCRIPTION:
URL:https://gaiaglobal.com.tr/takvim/makro-verilerin-yorumlanmasi/
CATEGORIES:Makro Verilerin Yorumlanması
ATTACH;FMTTYPE=image/png:https://gaiaglobal.com.tr/wp-content/uploads/2024/03/makroveriler.png
END:VEVENT
BEGIN:VEVENT
DTSTART;TZID=Europe/Moscow:20240403T080000
DTEND;TZID=Europe/Moscow:20240403T170000
DTSTAMP:20260421T083829
CREATED:20240320T210736Z
LAST-MODIFIED:20240320T210736Z
UID:1355-1712131200-1712163600@gaiaglobal.com.tr
SUMMARY:Teknik Analiz
DESCRIPTION:
URL:https://gaiaglobal.com.tr/takvim/teknik-analiz/
CATEGORIES:Teknik Analiz
ATTACH;FMTTYPE=image/png:https://gaiaglobal.com.tr/wp-content/uploads/2024/03/teknikanaliz.png
END:VEVENT
BEGIN:VEVENT
DTSTART;TZID=Europe/Moscow:20240404T080000
DTEND;TZID=Europe/Moscow:20240404T170000
DTSTAMP:20260421T083829
CREATED:20240320T210808Z
LAST-MODIFIED:20240320T210808Z
UID:1357-1712217600-1712250000@gaiaglobal.com.tr
SUMMARY:Temel Analiz
DESCRIPTION:
URL:https://gaiaglobal.com.tr/takvim/temel-analiz/
CATEGORIES:Temel Analiz
ATTACH;FMTTYPE=image/png:https://gaiaglobal.com.tr/wp-content/uploads/2024/03/temelanaliz.png
END:VEVENT
BEGIN:VEVENT
DTSTART;TZID=Europe/Moscow:20240405T080000
DTEND;TZID=Europe/Moscow:20240405T170000
DTSTAMP:20260421T083829
CREATED:20240320T222528Z
LAST-MODIFIED:20240320T222528Z
UID:1392-1712304000-1712336400@gaiaglobal.com.tr
SUMMARY:Yapay Zekanın Sektörel Etkileri Eğitimi
DESCRIPTION:GAIA Fintech Danışmanlık A.Ş. tarafından sunulan Yapay Zekanın Sektörel Etkileri Eğitimi\, katılımcılara farklı sektörlerde yapay zeka teknolojilerinin nasıl kullanıldığını ve bu teknolojilerin sektörel etkilerini anlamaları için kapsamlı bir bakış sunar. Eğitim içeriği şu temel başlıkları içerir: \n\n Finans Sektöründeki Yapay Zeka Uygulamaları:\n\nYapay zeka destekli risk yönetimi ve kredi değerlendirmesi. \nAlgoritmik ticaret ve finansal analizde yapay zeka kullanımı. \nMüşteri hizmetlerinde ve kişiselleştirilmiş finansal danışmanlıkta yapay zeka. \n\n Sağlık Sektöründeki Yapay Zeka Uygulamaları:\n\nYapay zeka destekli teşhis ve tedavi planlaması. \nHastane yönetimi ve veri analitiği için yapay zeka kullanımı. \nTıbbi görüntüleme ve biyomedikal araştırmalarda yapay zeka. \n\n Üretim ve Lojistikte Yapay Zeka:\n\nAkıllı üretim ve otomasyon için yapay zeka. \nTedarik zinciri yönetimi ve lojistik optimizasyonunda yapay zeka. \nBakım öngörüsü ve üretim planlamasında yapay zeka uygulamaları. \n\n Perakende ve E-Ticarette Yapay Zeka:\n\nMüşteri davranış analizi ve öneri sistemlerinde yapay zeka. \nStok yönetimi ve talep tahmini için yapay zeka. \nE-ticarette kişiselleştirilmiş deneyimler oluşturan yapay zeka uygulamaları. \n\n Enerji ve Çevre Sektöründe Yapay Zeka:\n\nEnerji talep tahmini ve tüketim optimizasyonunda yapay zeka. \nYenilenebilir enerji kaynaklarının yönetiminde yapay zeka uygulamaları. \nÇevresel veri analitiği ve sürdürülebilirlik raporlamasında yapay zeka. \n\n Eğitim ve İnsan Kaynaklarındaki Yapay Zeka:\n\nEğitimde öğrenci performans değerlendirmesi ve kişiselleştirilmiş öğrenme materyalleri. \nİnsan kaynakları yönetimi ve işe alım süreçlerinde yapay zeka. \nEğitim ve gelişim programlarında yapay zeka kullanımı. \n\n Tarım ve Gıda Sektöründeki Yapay Zeka Etkileri:\n\nVerimlilik artırma ve hasat tahmini için yapay zeka. \nTarım makinelerinde otomasyon ve veri analitiği uygulamaları. \nGıda güvenliği ve kalite kontrolünde yapay zeka. \nBu eğitim\, katılımcılara yapay zekanın farklı sektörlerdeki uygulamalarını anlama\, sektörel etkilerini değerlendirme ve bu teknolojilerin sunduğu fırsatları anlama fırsatı sunar. Sektörel Etkiler Eğitimi\, katılımcıların kendi iş alanlarında yapay zeka uygulamalarını değerlendirmelerine ve bu teknolojiden en iyi şekilde faydalanmalarına yardımcı olur.
URL:https://gaiaglobal.com.tr/takvim/yapay-zekanin-sektorel-etkileri-egitimi/
CATEGORIES:Yapay Zekanın Sektörel Etkileri Eğitimi
END:VEVENT
END:VCALENDAR